Workbook

Sheet Welcome
E2: 2026/11
B3: Film equipment rental & studios · Filmes eszközbérlés és stúdiók
B5: Full equipment & price list
B6: Teljes eszköz- és árlista
B8: Request a quote / Kérj ajánlatot | C8: rental@kraftrental.hu
B9: 1. | C9: Fill in the quantity (pc.) column on the department tabs. / Töltsd ki a mennyiség (pc.) oszlopot a részlegek fülein.
B10: 2. | C10: Check the days and the totals – the summary below updates automatically. / Ellenőrizd a napokat, az összesítő automatikusan frissül.
B11: 3. | C11: Send this file to rental@kraftrental.hu. / Küldd el ezt a fájlt a rental@kraftrental.hu címre.
B13: Summary / Összesítő | E13: Total list price (HUF)
B14: Camera - Video | E14: ='Camera - Video'!G915 -> 0
B15: Light | E15: =Light!G681 -> 0
B16: Grip | E16: =Grip!G294 -> 0
B17: Telescopic Crane | E17: ='Telescopic Crane'!G53 -> 0
B18: Sound | E18: =Sound!G194 -> 0
B19: Broadcast | E19: =Broadcast!G93 -> 0
B20: Transport | E20: =Transport!G27 -> 0
B21: Studio | E21: =Studio!G58 -> 0
B22: Rigging | E22: =Rigging!G62 -> 0
B23: LED WALL | E23: ='LED WALL'!G69 -> 0
B24: Expendables | E24: Ask for Quote
B25: TOTAL LIST PRICE / ÖSSZESEN | E25: =SUM(E14:E24) -> 0
B27: Contact / Elérhetőség
B28: Office / Iroda | C28: +36 70 317 5058
B29: Camera storage / Kamera raktár | C29: +36 20 777 7470
B30: Light storage / Fény raktár | C30: +36 70 389 6868
B31: E-mail | C31: rental@kraftrental.hu
B32: Web | C32: kraftrental.hu
B34: Locations / Telephelyek
B35: Öv utca (HQ, Studio 1, 2, 5, Photo Stage, storage) | D35: 1141 Budapest, Öv utca 7–9.
B36: Rétifarkas utca (Studio 3, 4, Workshop) | D36: 1172 Budapest, Rétifarkas utca 9.
B37: Légcsavar utca (Studio 6) | D37: 1165 Budapest, Légcsavar utca 5.
B39: Kraft Rental Hungary Kft. · 1141 Budapest, Öv utca 7/B · Tax no. / Adószám: 11793849-2-42
B41: Az árlistában feltüntetett árak indikatív napi nettó listaárak, a változtatás jogát fenntartjuk. Ez a fájl nem minősül árajánlatnak.
B42: Prices are indicative daily net list prices and are subject to change. This file is not a quote.
B43: General Terms and Conditions / Általános Bérleti Feltételek →

Sheet Camera - Video
G1: CAMERA - VIDEO
B2: Equipment & price list / Eszköz- és árlista · 2026/11
B4: Kraft Rental Hungary Kft. | D4: Production Title
B5: 1141 Budapest, Öv utca 7/B · Tax no. / Adószám: 11793849-2-42 | D5: Production Manager
B6: Storage / Raktár: 1141 Budapest, Öv utca 7–9. | D6: D.O.P
B7: Office / Iroda: +36 70 317 5058 | D7: Focus Puller
B8: Camera storage: +36 20 777 7470 · Light storage: +36 70 389 6868 | D8: Gaffer
B9: rental@kraftrental.hu · kraftrental.hu | D9: Key Grip
D10: Sound
D11: Project
D12: Shooting dates
B14: Equipment | C14: Note | D14: pc. | E14: Price / Day | F14: Days | G14: Total HUF
B15: Enter the quantity in the yellow "pc." column / Írd be a mennyiséget a sárga „pc.” oszlopba
B16: CAMERA
B17: Arri Alexa 35 Xtreme | E17: 520000 | F17: 1 | G17: =N(D17)*N(E17)*N(F17) -> 0
B18: Arri Alexa 35 | E18: 450000 | F18: 1 | G18: =N(D18)*N(E18)*N(F18) -> 0
B19: Arri Alexa Mini LF 4K | E19: 370000 | F19: 1 | G19: =N(D19)*N(E19)*N(F19) -> 0
B20: Arri Alexa Mini 4K | E20: 220000 | F20: 1 | G20: =N(D20)*N(E20)*N(F20) -> 0
B21: Arri Amira Premium 4K (no anamorph) | E21: 190000 | F21: 1 | G21: =N(D21)*N(E21)*N(F21) -> 0
B22: Arri Alexa Classic 2K | E22: 95000 | F22: 1 | G22: =N(D22)*N(E22)*N(F22) -> 0
B23: Phantom Flex 4K - Super Slowmo 1000fps 4K | E23: 420000 | F23: 1 | G23: =N(D23)*N(E23)*N(F23) -> 0
B24: RED V-Raptor XL (X) - VV 8K - global shutter | E24: 370000 | F24: 1 | G24: =N(D24)*N(E24)*N(F24) -> 0
B25: RED Dragon 6K | E25: 100000 | F25: 1 | G25: =N(D25)*N(E25)*N(F25) -> 0
B26: RED Gemini 5K super sensitivity dual ISO | E26: 150000 | F26: 1 | G26: =N(D26)*N(E26)*N(F26) -> 0
B27: RED Komodo 6K | E27: 60000 | F27: 1 | G27: =N(D27)*N(E27)*N(F27) -> 0
B28: RED Komodo 6K X | E28: 80000 | F28: 1 | G28: =N(D28)*N(E28)*N(F28) -> 0
... B65: DJI Osmo Pocket 4 | E65: 10000 | F65: 1 | G65: =N(D65)*N(E65)*N(F65) -> 0
B67: FLASH DRIVE / MEMORY CARD
B68: 64 GB MicroSD Card | E68: 800 | F68: 1 | G68: =N(D68)*N(E68)*N(F68) -> 0
B69: 128 GB MicroSD Card | E69: 1200 | F69: 1 | G69: =N(D69)*N(E69)*N(F69) -> 0
B70: 256 GB MicroSD Card | E70: 1500 | F70: 1 | G70: =N(D70)*N(E70)*N(F70) -> 0
B71: 64 GB SD Card | E71: 1000 | F71: 1 | G71: =N(D71)*N(E71)*N(F71) -> 0
B72: 128 GB SD Card | E72: 2200 | F72: 1 | G72: =N(D72)*N(E72)*N(F72) -> 0
B73: 256 GB SD Card | E73: 4000 | F73: 1 | G73: =N(D73)*N(E73)*N(F73) -> 0
B74: 128 GB C-fast 2.0 | E74: 15000 | F74: 1 | G74: =N(D74)*N(E74)*N(F74) -> 0
B75: 256 GB C-fast 2.0 | E75: 20000 | F75: 1 | G75: =N(D75)*N(E75)*N(F75) -> 0
B76: 512GB C-Fast 2.0 | E76: 40000 | F76: 1 | G76: =N(D76)*N(E76)*N(F76) -> 0
B77: 128 GB XQD Card | E77: 7500 | F77: 1 | G77: =N(D77)*N(E77)*N(F77) -> 0
B78: 256 GB XQD Card | E78: 10000 | F78: 1 | G78: =N(D78)*N(E78)*N(F78) -> 0
B79: 80 GB CF-Express A Card | E79: 4500 | F79: 1 | G79: =N(D79)*N(E79)*N(F79) -> 0
... B99: CFexpress B / XQD Card Reader (Sony MRW-G1) | E99: 2000 | F99: 1 | G99: =N(D99)*N(E99)*N(F99) -> 0
B101: PRIME LENS
B102: Arri Master Prime 18mm T1.3 S35 | E102: 42000 | F102: 1 | G102: =N(D102)*N(E102)*N(F102) -> 0
B103: Arri Master Prime 25mm T1.3 S35 | E103: 42000 | F103: 1 | G103: =N(D103)*N(E103)*N(F103) -> 0
B104: Arri Master Prime 35mm T1.3 S35 | E104: 42000 | F104: 1 | G104: =N(D104)*N(E104)*N(F104) -> 0
B105: Arri Master Prime 40mm T1.3 S35 | E105: 42000 | F105: 1 | G105: =N(D105)*N(E105)*N(F105) -> 0
B106: Arri Master Prime 50mm T1.3 S35 | E106: 42000 | F106: 1 | G106: =N(D106)*N(E106)*N(F106) -> 0
B107: Arri Master Prime 75mm T1.3 S35 | E107: 42000 | F107: 1 | G107: =N(D107)*N(E107)*N(F107) -> 0
B108: Arri Master Prime 100mm T1.3 S35 | E108: 42000 | F108: 1 | G108: =N(D108)*N(E108)*N(F108) -> 0
B109: Arri Signature Prime 12mm T1.8 FF | E109: 90000 | F109: 1 | G109: =N(D109)*N(E109)*N(F109) -> 0
B110: Arri Signature Prime 15mm T1.8 FF | E110: 80000 | F110: 1 | G110: =N(D110)*N(E110)*N(F110) -> 0
B111: Arri Signature Prime 18mm T1.8 FF | E111: 79000 | F111: 1 | G111: =N(D111)*N(E111)*N(F111) -> 0
B112: Arri Signature Prime 21mm T1.8 FF | E112: 79000 | F112: 1 | G112: =N(D112)*N(E112)*N(F112) -> 0
B113: Arri Signature Prime 25mm T1.8 FF | E113: 79000 | F113: 1 | G113: =N(D113)*N(E113)*N(F113) -> 0
... B331: Laowa 24mm T8-40 Full Frame 2x PeriProbe Cine Lens | E331: 45000 | F331: 1 | G331: =N(D331)*N(E331)*N(F331) -> 0
B333: ZOOM LENS
B334: Signature Zoom 16-32mm/T2.8F FF LPL | E334: 160000 | F334: 1 | G334: =N(D334)*N(E334)*N(F334) -> 0
B335: Signature Zoom 24-75mm/T2.8F FF LPL | E335: 140000 | F335: 1 | G335: =N(D335)*N(E335)*N(F335) -> 0
B336: Signature Zoom 45-135mm/T2.8F FF LPL | E336: 140000 | F336: 1 | G336: =N(D336)*N(E336)*N(F336) -> 0
B337: Signature Zoom 65-300mm/T2.8F FF LPL | E337: 160000 | F337: 1 | G337: =N(D337)*N(E337)*N(F337) -> 0
B338: Angenieux Optimo 16-42 T2.8 S35 | E338: 48000 | F338: 1 | G338: =N(D338)*N(E338)*N(F338) -> 0
B339: Angenieux Optimo 16-40 T2.8 Style S35 | E339: 48000 | F339: 1 | G339: =N(D339)*N(E339)*N(F339) -> 0
B340: Angenieux EZ-2 15-40mm T2 S35/ 22-60mm T3 FF | E340: 48000 | F340: 1 | G340: =N(D340)*N(E340)*N(F340) -> 0
B341: Angenieux EZ-1 30-90mm T2 S35/ 45-135mm T3 FF | E341: 48000 | F341: 1 | G341: =N(D341)*N(E341)*N(F341) -> 0
B342: Angenieux Optimo 30-80 T2.8 S35 | E342: 48000 | F342: 1 | G342: =N(D342)*N(E342)*N(F342) -> 0
B343: Angenieux Optimo 45-120 T2.8 Lightweight S35 | E343: 95000 | F343: 1 | G343: =N(D343)*N(E343)*N(F343) -> 0
B344: Angenieux Optimo 12x 36-435 T4.2 Ultra zoom FF | E344: 260000 | F344: 1 | G344: =N(D344)*N(E344)*N(F344) -> 0
B345: Angenieux Optimo 12x 24-290 T2.8 ultra zoom S35 | E345: 160000 | F345: 1 | G345: =N(D345)*N(E345)*N(F345) -> 0
... B365: Canon Cine-Servo 50-1000mm T5.0-8.9 1.5x Ext. FF PL/EF | E365: 200000 | F365: 1 | G365: =N(D365)*N(E365)*N(F365) -> 0
B367: PHOTO LENS
B368: Canon 8-15mm f4L | E368: 8500 | F368: 1 | G368: =N(D368)*N(E368)*N(F368) -> 0
B369: Canon 16-35 L f2.8 | E369: 8500 | F369: 1 | G369: =N(D369)*N(E369)*N(F369) -> 0
B370: Canon 16-35 L f2.8 II | E370: 8500 | F370: 1 | G370: =N(D370)*N(E370)*N(F370) -> 0
B371: Canon 24-105 L f4 IS | E371: 8500 | F371: 1 | G371: =N(D371)*N(E371)*N(F371) -> 0
B372: Canon 70-200 L f2.8 IS II | E372: 8500 | F372: 1 | G372: =N(D372)*N(E372)*N(F372) -> 0
B373: Canon 24-70 L f2.8 II | E373: 8500 | F373: 1 | G373: =N(D373)*N(E373)*N(F373) -> 0
B374: Canon 50mm f1.2L USM | E374: 8500 | F374: 1 | G374: =N(D374)*N(E374)*N(F374) -> 0
B375: Canon 100mm f2.8 macro | E375: 8500 | F375: 1 | G375: =N(D375)*N(E375)*N(F375) -> 0
B376: Sigma ART 24 f1.4 | E376: 8500 | F376: 1 | G376: =N(D376)*N(E376)*N(F376) -> 0
B377: Sigma ART 35 f1.4 EF mount | E377: 8500 | F377: 1 | G377: =N(D377)*N(E377)*N(F377) -> 0
B378: Sigma ART 35 f1.4 E mount | E378: 8500 | F378: 1 | G378: =N(D378)*N(E378)*N(F378) -> 0
B379: Sigma ART 50 f1.4 | E379: 8500 | F379: 1 | G379: =N(D379)*N(E379)*N(F379) -> 0
... B409: Zeiss Batis 18mm T2.8 E-mount | E409: 15000 | F409: 1 | G409: =N(D409)*N(E409)*N(F409) -> 0
B411: SPECIAL LENSES
B412: P+S Technik Skater Scope PL-PL S35 | E412: 260000 | F412: 1 | G412: =N(D412)*N(E412)*N(F412) -> 0
B413: Laowa Probe zoom 15-24mm Periprobe lens kit T8 | E413: 30000 | F413: 1 | G413: =N(D413)*N(E413)*N(F413) -> 0
B414: Lensbaby kit with EF/PL mount | E414: 80000 | F414: 1 | G414: =N(D414)*N(E414)*N(F414) -> 0
B416: LENS ADAPTERS
B417: E - EF Adapter | E417: 4000 | F417: 1 | G417: =N(D417)*N(E417)*N(F417) -> 0
B418: E - PL Adapter | E418: 5000 | F418: 1 | G418: =N(D418)*N(E418)*N(F418) -> 0
B419: E - LPL Adapter | E419: 10000 | F419: 1 | G419: =N(D419)*N(E419)*N(F419) -> 0
B420: E - Leica R Adapter | E420: 5000 | F420: 1 | G420: =N(D420)*N(E420)*N(F420) -> 0
B421: E - Leica M Adapter | E421: 5000 | F421: 1 | G421: =N(D421)*N(E421)*N(F421) -> 0
B422: RF - EF Adapter with VariND | E422: 7000 | F422: 1 | G422: =N(D422)*N(E422)*N(F422) -> 0
B423: RF - PL Adapter | E423: 7000 | F423: 1 | G423: =N(D423)*N(E423)*N(F423) -> 0
B424: RF - Leica R Adapter | E424: 5000 | F424: 1 | G424: =N(D424)*N(E424)*N(F424) -> 0
B425: RF - Leica M Adapter | E425: 5000 | F425: 1 | G425: =N(D425)*N(E425)*N(F425) -> 0
B426: RF - Hasselblad | E426: 10000 | F426: 1 | G426: =N(D426)*N(E426)*N(F426) -> 0
B427: MFT - EF Adapter | E427: 5000 | F427: 1 | G427: =N(D427)*N(E427)*N(F427) -> 0
B428: MFT - PL Adapter | E428: 5000 | F428: 1 | G428: =N(D428)*N(E428)*N(F428) -> 0
...

Sheet Light
G1: LIGHT
B2: Equipment & price list / Eszköz- és árlista · 2026/11
B4: Kraft Rental Hungary Kft. | D4: Production Title
B5: 1141 Budapest, Öv utca 7/B · Tax no. / Adószám: 11793849-2-42 | D5: Production Manager
B6: Storage / Raktár: 1141 Budapest, Öv utca 7–9. | D6: D.O.P
B7: Office / Iroda: +36 70 317 5058 | D7: Focus Puller
B8: Camera storage: +36 20 777 7470 · Light storage: +36 70 389 6868 | D8: Gaffer
B9: rental@kraftrental.hu · kraftrental.hu | D9: Key Grip
D10: Sound
D11: Project
D12: Shooting dates
B14: Equipment | C14: Note | D14: pc. | E14: Price / Day | F14: Days | G14: Total HUF
B15: Enter the quantity in the yellow "pc." column / Írd be a mennyiséget a sárga „pc.” oszlopba
B16: HMI Fresnel Lights
B17: ARRIMAX 18kw w. High speed ballast | E17: 170000 | F17: 1 | G17: =N(D17)*N(E17)*N(F17) -> 0
B18: Arri M90 ARRIMAX w. High speed ballast | E18: 135000 | F18: 1 | G18: =N(D18)*N(E18)*N(F18) -> 0
B19: Arri 6K ARRISUN w. Ballast | E19: 65000 | F19: 1 | G19: =N(D19)*N(E19)*N(F19) -> 0
B20: Arri M40/25 ARRIMAX w. High speed ballast | E20: 49000 | F20: 1 | G20: =N(D20)*N(E20)*N(F20) -> 0
B21: Arri M18 ARRIMAX w. High speed ballast | E21: 38000 | F21: 1 | G21: =N(D21)*N(E21)*N(F21) -> 0
B22: Arri M8 ARRIMAX w. High speed ballast | E22: 28000 | F22: 1 | G22: =N(D22)*N(E22)*N(F22) -> 0
B23: Arri 1200 W 240V HMI/SE COMPACT w. Ballast | E23: 19000 | F23: 1 | G23: =N(D23)*N(E23)*N(F23) -> 0
B24: ARRISUN 4000/2500W | E24: 32000 | F24: 1 | G24: =N(D24)*N(E24)*N(F24) -> 0
B25: ARRISUN 1200W | E25: 22000 | F25: 1 | G25: =N(D25)*N(E25)*N(F25) -> 0
B26: ARRISUN 575W | E26: 17000 | F26: 1 | G26: =N(D26)*N(E26)*N(F26) -> 0
B27: K5600 Alpha 4K | E27: 32000 | F27: 1 | G27: =N(D27)*N(E27)*N(F27) -> 0
B28: K5600 Alpha 1600 | E28: 30000 | F28: 1 | G28: =N(D28)*N(E28)*N(F28) -> 0
... B36: Extra Head Cable 200/400, 575/M8/M18, M25/M40, 6kw/M90 | E36: 11000 | F36: 1 | G36: =N(D36)*N(E36)*N(F36) -> 0
B38: TUNGSTEN Fresnel Lights
B39: Arri 10/12 KW 240V Spot | E39: 15000 | F39: 1 | G39: =N(D39)*N(E39)*N(F39) -> 0
B40: Arri 5 KW 240V Spot | E40: 8000 | F40: 1 | G40: =N(D40)*N(E40)*N(F40) -> 0
B41: Arri T2 2000W 240V Spot | E41: 3500 | F41: 1 | G41: =N(D41)*N(E41)*N(F41) -> 0
B42: Arri T1 1000W 240V Spot | E42: 3000 | F42: 1 | G42: =N(D42)*N(E42)*N(F42) -> 0
B43: Arri 650 W 240V Spot | E43: 2500 | F43: 1 | G43: =N(D43)*N(E43)*N(F43) -> 0
B44: Arri 300 W 240V Spot | E44: 2000 | F44: 1 | G44: =N(D44)*N(E44)*N(F44) -> 0
B45: Arri 150 W 240V Spot | E45: 2000 | F45: 1 | G45: =N(D45)*N(E45)*N(F45) -> 0
B46: Kobold 3x 300w spot set | E46: 5000 | F46: 1 | G46: =N(D46)*N(E46)*N(F46) -> 0
B47: Desisti 2KW Spot | E47: 2500 | F47: 1 | G47: =N(D47)*N(E47)*N(F47) -> 0
B49: METAL Scrim set
B50: METAL Scrim set for M90 / 10KW / 12KW / 6KW | E50: 600 | F50: 1 | G50: =N(D50)*N(E50)*N(F50) -> 0
B51: METAL Scrim set for M40 / 5KW | E51: 600 | F51: 1 | G51: =N(D51)*N(E51)*N(F51) -> 0
B52: METAL Scrim set for M18 / 2KW | E52: 600 | F52: 1 | G52: =N(D52)*N(E52)*N(F52) -> 0
B53: METAL Scrim set for M8 / 1KW | E53: 600 | F53: 1 | G53: =N(D53)*N(E53)*N(F53) -> 0
B54: METAL Scrim set for 650W | E54: 600 | F54: 1 | G54: =N(D54)*N(E54)*N(F54) -> 0
B55: METAL Scrim set for 300W | E55: 600 | F55: 1 | G55: =N(D55)*N(E55)*N(F55) -> 0
B56: METAL Scrim set for 150W | E56: 600 | F56: 1 | G56: =N(D56)*N(E56)*N(F56) -> 0
B58: SNOOT
B59: Snoot 2KW | E59: 600 | F59: 1 | G59: =N(D59)*N(E59)*N(F59) -> 0
B60: Snoot 1KW | E60: 600 | F60: 1 | G60: =N(D60)*N(E60)*N(F60) -> 0
B61: Snoot 650W | E61: 600 | F61: 1 | G61: =N(D61)*N(E61)*N(F61) -> 0
B62: Snoot 300W | E62: 600 | F62: 1 | G62: =N(D62)*N(E62)*N(F62) -> 0
B63: Snoot 150W | E63: 600 | F63: 1 | G63: =N(D63)*N(E63)*N(F63) -> 0
B65: TUNGSTEN Flood Lights
B66: Rifa Light 88 1000 W | E66: 12000 | F66: 1 | G66: =N(D66)*N(E66)*N(F66) -> 0
B67: Eggcrate for Rifa 88 | E67: 3000 | F67: 1 | G67: =N(D67)*N(E67)*N(F67) -> 0
B68: RIFA Light 66 650 W | E68: 9000 | F68: 1 | G68: =N(D68)*N(E68)*N(F68) -> 0
B69: Eggcrate for Rifa 66 | E69: 3000 | F69: 1 | G69: =N(D69)*N(E69)*N(F69) -> 0
B70: RIFA Light 55 500 W | E70: 8000 | F70: 1 | G70: =N(D70)*N(E70)*N(F70) -> 0
B71: Eggcrate for Rifa 55 | E71: 3000 | F71: 1 | G71: =N(D71)*N(E71)*N(F71) -> 0
B72: Pancake Small 500w | E72: 5000 | F72: 1 | G72: =N(D72)*N(E72)*N(F72) -> 0
B73: Pancake Medium 1000w | E73: 6000 | F73: 1 | G73: =N(D73)*N(E73)*N(F73) -> 0
B74: Pancake Large 1000w | E74: 7000 | F74: 1 | G74: =N(D74)*N(E74)*N(F74) -> 0
B75: ARRI 2000W openface | E75: 3500 | F75: 1 | G75: =N(D75)*N(E75)*N(F75) -> 0
B76: ARRI 750W openface | E76: 2000 | F76: 1 | G76: =N(D76)*N(E76)*N(F76) -> 0
B77: Dedolight Panaura 5 1kw/400 HMI Octodome | E77: 30000 | F77: 1 | G77: =N(D77)*N(E77)*N(F77) -> 0
... B82: 2x1000 W 240V SPACELIGHT with white silk | E82: 6000 | F82: 1 | G82: =N(D82)*N(E82)*N(F82) -> 0
B84: BEAM Light
B85: TRUEGAMUT Beam Light T20 20kW / HMI 18kW | E85: 160000 | F85: 1 | G85: =N(D85)*N(E85)*N(F85) -> 0
B86: TRUEGAMUT Truray T5 HMI 4Kw / Tungsten 5 Kw | E86: 70000 | F86: 1 | G86: =N(D86)*N(E86)*N(F86) -> 0
B87: Mole Richardson MoleBeam 10kw | E87: 85000 | F87: 1 | G87: =N(D87)*N(E87)*N(F87) -> 0
B88: Mole Richardson MoleBeam 5kw | E88: 85000 | F88: 1 | G88: =N(D88)*N(E88)*N(F88) -> 0
B90: DEDO Lights
B91: DEDOLIGHT set 24V 150W | E91: 14000 | F91: 1 | G91: =N(D91)*N(E91)*N(F91) -> 0
B92: DEDOLIGHT set 12V 100W | E92: 10000 | F92: 1 | G92: =N(D92)*N(E92)*N(F92) -> 0
B93: Projector tube for 150w dedo with blades | E93: 6000 | F93: 1 | G93: =N(D93)*N(E93)*N(F93) -> 0
B95: PAR lights
B96: 1000 W PAR 64 (Altman) | E96: 2500 | F96: 1 | G96: =N(D96)*N(E96)*N(F96) -> 0
B97: 500W W PAR 56 (Altman) | E97: 2500 | F97: 1 | G97: =N(D97)*N(E97)*N(F97) -> 0
B98: 8x650 W MINIBRUT | E98: 9500 | F98: 1 | G98: =N(D98)*N(E98)*N(F98) -> 0
B99: 4x650 W MINIBRUT | E99: 4500 | F99: 1 | G99: =N(D99)*N(E99)*N(F99) -> 0
B100: 9x1000 W Maxi brute / DINO | E100: 12000 | F100: 1 | G100: =N(D100)*N(E100)*N(F100) -> 0
B101: 12x1000 W Maxi brute / DINO | E101: 16000 | F101: 1 | G101: =N(D101)*N(E101)*N(F101) -> 0
B102: 16x1000 W Maxi brute / DINO | E102: 20000 | F102: 1 | G102: =N(D102)*N(E102)*N(F102) -> 0
B103: 24x1000 W Maxi brute / DINO | E103: 45000 | F103: 1 | G103: =N(D103)*N(E103)*N(F103) -> 0
B104: LED Dino 2000W RGBW | E104: 55000 | F104: 1 | G104: =N(D104)*N(E104)*N(F104) -> 0
B106: FOLLOW Lights
B107: Robert Juliat VICTOR 1800W HMI | E107: 35000 | F107: 1 | G107: =N(D107)*N(E107)*N(F107) -> 0
B108: SOURCE 4 ETC MINI 50w | E108: 3000 | F108: 1 | G108: =N(D108)*N(E108)*N(F108) -> 0
B109: SOURCE 4 ETC 19° 750w | E109: 4500 | F109: 1 | G109: =N(D109)*N(E109)*N(F109) -> 0
B110: SOURCE 4 ETC 26° 750w | E110: 4500 | F110: 1 | G110: =N(D110)*N(E110)*N(F110) -> 0
B111: SOURCE 4 ETC 36° 750w | E111: 4500 | F111: 1 | G111: =N(D111)*N(E111)*N(F111) -> 0
B112: SOURCE 4 ETC Zoom 25°-50° 750w | E112: 4500 | F112: 1 | G112: =N(D112)*N(E112)*N(F112) -> 0
B113: SOURCE 4 ETC Zoom 15°-30° 750w | E113: 4500 | F113: 1 | G113: =N(D113)*N(E113)*N(F113) -> 0
B115: FLASH MACHINE
B116: 3000 W Strobe Martin DMX (230v) | E116: 12000 | F116: 1 | G116: =N(D116)*N(E116)*N(F116) -> 0
B117: Flicker Generator 2KW basic | E117: 10000 | F117: 1 | G117: =N(D117)*N(E117)*N(F117) -> 0
B119: KINOFLO
B120: 120 4 feet/4 bank 3200K/5500 Kino flo | E120: 20000 | F120: 1 | G120: =N(D120)*N(E120)*N(F120) -> 0
B121: 120 4 feet/2 bank 3200K/5500 Kino flo | E121: 18000 | F121: 1 | G121: =N(D121)*N(E121)*N(F121) -> 0
B122: 60 2 feet/2 bank 3200K/5500 Kino flo | E122: 12000 | F122: 1 | G122: =N(D122)*N(E122)*N(F122) -> 0
B123: 60 2 feet/4bank 3200K/5500 Kino flo | E123: 12000 | F123: 1 | G123: =N(D123)*N(E123)*N(F123) -> 0
...

Sheet Grip
G1: GRIP
B2: Equipment & price list / Eszköz- és árlista · 2026/11
B4: Kraft Rental Hungary Kft. | D4: Production Title
B5: 1141 Budapest, Öv utca 7/B · Tax no. / Adószám: 11793849-2-42 | D5: Production Manager
B6: Storage / Raktár: 1141 Budapest, Öv utca 7–9. | D6: D.O.P
B7: Office / Iroda: +36 70 317 5058 | D7: Focus Puller
B8: Camera storage: +36 20 777 7470 · Light storage: +36 70 389 6868 | D8: Gaffer
B9: rental@kraftrental.hu · kraftrental.hu | D9: Key Grip
D10: Sound
D11: Project
D12: Shooting dates
B14: Equipment | C14: Note | D14: pc. | E14: Price / Day | F14: Days | G14: Total HUF
B15: Enter the quantity in the yellow "pc." column / Írd be a mennyiséget a sárga „pc.” oszlopba
B16: DOLLY
B17: Chapman Super Peewee III+ with Accessories | E17: 190000 | F17: 1 | G17: =N(D17)*N(E17)*N(F17) -> 0
B18: J.L. Fisher 11 dolly set + Accessories | E18: 165000 | F18: 1 | G18: =N(D18)*N(E18)*N(F18) -> 0
B19: J.L. Fisher 10 dolly set + Accessories | E19: 190000 | F19: 1 | G19: =N(D19)*N(E19)*N(F19) -> 0
B20: GFM Primo Dolly set + Accessories | E20: 145000 | F20: 1 | G20: =N(D20)*N(E20)*N(F20) -> 0
B21: Panther S-Type dolly | E21: 145000 | F21: 1 | G21: =N(D21)*N(E21)*N(F21) -> 0
B22: Panther II dolly | E22: 90000 | F22: 1 | G22: =N(D22)*N(E22)*N(F22) -> 0
B23: Panther Twister Dolly + Accessories | E23: 60000 | F23: 1 | G23: =N(D23)*N(E23)*N(F23) -> 0
B24: Keywest magic dolly (doorway dolly) | E24: 20000 | F24: 1 | G24: =N(D24)*N(E24)*N(F24) -> 0
B25: Matthews dutty dolly | E25: 30000 | F25: 1 | G25: =N(D25)*N(E25)*N(F25) -> 0
B26: Dana Dolly set | E26: 30000 | F26: 1 | G26: =N(D26)*N(E26)*N(F26) -> 0
B27: Panther Table Dolly | E27: 18000 | F27: 1 | G27: =N(D27)*N(E27)*N(F27) -> 0
B28: Hans Hellner Rickshaw Dolly kit | E28: 57000 | F28: 1 | G28: =N(D28)*N(E28)*N(F28) -> 0
... B32: Proaim Butt Camera Dolly | E32: 25000 | F32: 1 | G32: =N(D32)*N(E32)*N(F32) -> 0
B34: Dolly Accessories
B35: Low Platform system for GFM | E35: 10000 | F35: 1 | G35: =N(D35)*N(E35)*N(F35) -> 0
B36: GF-HiLo Swivel Set | E36: 25000 | F36: 1 | G36: =N(D36)*N(E36)*N(F36) -> 0
B37: Panther Boggie Skateboard Wheel | E37: 20000 | F37: 1 | G37: =N(D37)*N(E37)*N(F37) -> 0
B38: J.L. Fisher Skateboard Wheel | E38: 20000 | F38: 1 | G38: =N(D38)*N(E38)*N(F38) -> 0
B40: DOLLY TRACK
B41: Ronford Staight Track (m) | E41: 3600 | F41: 1 | G41: =N(D41)*N(E41)*N(F41) -> 0
B42: GFM Staight Track (m) | E42: 3600 | F42: 1 | G42: =N(D42)*N(E42)*N(F42) -> 0
B43: Ronford Curved Track (m) | E43: 4800 | F43: 1 | G43: =N(D43)*N(E43)*N(F43) -> 0
B44: Ronford Starter ramp (62cm gauge) / Track Run up | E44: 1500 | F44: 1 | G44: =N(D44)*N(E44)*N(F44) -> 0
B45: GFM Starter ramp (62cm gauge) / Track Run up | E45: 1500 | F45: 1 | G45: =N(D45)*N(E45)*N(F45) -> 0
B46: Carpet / Meter | E46: 650 | F46: 1 | G46: =N(D46)*N(E46)*N(F46) -> 0
B48: CRANE/JIB
B49: Movietech MT400 crane | E49: 240000 | F49: 1 | G49: =N(D49)*N(E49)*N(F49) -> 0
B50: GF-8 Xten Crane | E50: 240000 | F50: 1 | G50: =N(D50)*N(E50)*N(F50) -> 0
B51: GF Multi JIB | E51: 170000 | F51: 1 | G51: =N(D51)*N(E51)*N(F51) -> 0
B52: GF JIB (vario) | E52: 65000 | F52: 1 | G52: =N(D52)*N(E52)*N(F52) -> 0
B53: Station Jimmy Jib | E53: 200000 | F53: 1 | G53: =N(D53)*N(E53)*N(F53) -> 0
B54: Panther Vario Jib | E54: 45000 | F54: 1 | G54: =N(D54)*N(E54)*N(F54) -> 0
B55: Movietch Gizmo JIB M | E55: 45000 | F55: 1 | G55: =N(D55)*N(E55)*N(F55) -> 0
B56: Panther Super Jib II | E56: 47000 | F56: 1 | G56: =N(D56)*N(E56)*N(F56) -> 0
B57: E-image J100 Huntsman jib arm | E57: 12000 | F57: 1 | G57: =N(D57)*N(E57)*N(F57) -> 0
B59: TRACKING VEHICLES
B60: ETV Electric Tracking Veichle | E60: 150000 | F60: 1 | G60: =N(D60)*N(E60)*N(F60) -> 0
B61: Electic Polaris 4 wheel drive witch rigging points | E61: 120000 | F61: 1 | G61: =N(D61)*N(E61)*N(F61) -> 0
B62: Ford Ranger Wildtrack 3.2L V6 aut | E62: 50000 | F62: 1 | G62: =N(D62)*N(E62)*N(F62) -> 0
B63: Tesla 85D Tracking vehicle | E63: 350000 | F63: 1 | G63: =N(D63)*N(E63)*N(F63) -> 0
B65: MotoCrane Radical Heavy Duty Set
B66: MotoCrane with Tesla Model S Performance 7 seats without Crew | E66: 900000 | F66: 1 | G66: =N(D66)*N(E66)*N(F66) -> 0
B67: MotoCrane without Crew | E67: 550000 | F67: 1 | G67: =N(D67)*N(E67)*N(F67) -> 0
B69: HEADS
B70: Cartoni Total Dutch Head | E70: 40000 | F70: 1 | G70: =N(D70)*N(E70)*N(F70) -> 0
B71: Cartoni Lambda 25 Head | E71: 45000 | F71: 1 | G71: =N(D71)*N(E71)*N(F71) -> 0
B72: Halo Head | E72: 19000 | F72: 1 | G72: =N(D72)*N(E72)*N(F72) -> 0
B74: REMOTE HEADS
B75: Elit Giro Stabilized 3 axis Remote Head | E75: 150000 | F75: 1 | G75: =N(D75)*N(E75)*N(F75) -> 0
B76: Arri SRH-360 Stabilized Remote Head | E76: 290000 | F76: 1 | G76: =N(D76)*N(E76)*N(F76) -> 0
B77: Arri SRH-360 Panbar | E77: 33000 | F77: 1 | G77: =N(D77)*N(E77)*N(F77) -> 0
B78: Arri SRH-360 Gearhead | E78: 33000 | F78: 1 | G78: =N(D78)*N(E78)*N(F78) -> 0
B79: Skorpio Mini EZ head | E79: 150000 | F79: 1 | G79: =N(D79)*N(E79)*N(F79) -> 0
B80: Moviebird Magic Head | E80: 110000 | F80: 1 | G80: =N(D80)*N(E80)*N(F80) -> 0
B81: Moviebird Magic Head - Gearhead control | E81: 20000 | F81: 1 | G81: =N(D81)*N(E81)*N(F81) -> 0
B82: Flight Head VI | E82: 600000 | F82: 1 | G82: =N(D82)*N(E82)*N(F82) -> 0
B84: GIMBALS
B85: Arri Maxima with Controller | E85: 75000 | F85: 1 | G85: =N(D85)*N(E85)*N(F85) -> 0
B86: Freefly Mövi Pro | E86: 55000 | F86: 1 | G86: =N(D86)*N(E86)*N(F86) -> 0
B87: Freefly Mövi Pro ignite adapter | E87: 7000 | F87: 1 | G87: =N(D87)*N(E87)*N(F87) -> 0
B88: Freefly Mövi Pro battery DJI TB50 | E88: 7000 | F88: 1 | G88: =N(D88)*N(E88)*N(F88) -> 0
B89: Freefly Mövi Professional Controller | E89: 30000 | F89: 1 | G89: =N(D89)*N(E89)*N(F89) -> 0
B90: DJI Ronin 2 Pro kit with Controller | E90: 65000 | F90: 1 | G90: =N(D90)*N(E90)*N(F90) -> 0
B91: DJI Extra battery TB50 | E91: 6000 | F91: 1 | G91: =N(D91)*N(E91)*N(F91) -> 0
B92: DJI Ronin M with controller | E92: 17000 | F92: 1 | G92: =N(D92)*N(E92)*N(F92) -> 0
B93: DJI Ronin RS2 Pro kit | E93: 22000 | F93: 1 | G93: =N(D93)*N(E93)*N(F93) -> 0
B94: DJI Ronin RS3 Combo | E94: 25000 | F94: 1 | G94: =N(D94)*N(E94)*N(F94) -> 0
B95: DJI Ronin RS3 Pro | E95: 30000 | F95: 1 | G95: =N(D95)*N(E95)*N(F95) -> 0
B96: DJI Ronin RS4 Pro | E96: 35000 | F96: 1 | G96: =N(D96)*N(E96)*N(F96) -> 0
B97: DJI Ronin S | E97: 17000 | F97: 1 | G97: =N(D97)*N(E97)*N(F97) -> 0
B99: SLIDER
B100: GFM Slider 2' | E100: 32000 | F100: 1 | G100: =N(D100)*N(E100)*N(F100) -> 0
B101: Panther 2' | E101: 32000 | F101: 1 | G101: =N(D101)*N(E101)*N(F101) -> 0
B102: GFM Slider 3' | E102: 34000 | F102: 1 | G102: =N(D102)*N(E102)*N(F102) -> 0
B103: Movmax Slider 3' | E103: 34000 | F103: 1 | G103: =N(D103)*N(E103)*N(F103) -> 0
B104: Kessler Cineslider 3' | E104: 34000 | F104: 1 | G104: =N(D104)*N(E104)*N(F104) -> 0
B105: Panther Slider 3' 88cm | E105: 34000 | F105: 1 | G105: =N(D105)*N(E105)*N(F105) -> 0
B106: GFM Slider 4' | E106: 37000 | F106: 1 | G106: =N(D106)*N(E106)*N(F106) -> 0
B107: Movmax Slider 4' | E107: 37000 | F107: 1 | G107: =N(D107)*N(E107)*N(F107) -> 0
B108: Ronford Baker 4' slider | E108: 37000 | F108: 1 | G108: =N(D108)*N(E108)*N(F108) -> 0
B109: Panther Slider 5' 136cm | E109: 37000 | F109: 1 | G109: =N(D109)*N(E109)*N(F109) -> 0
B110: GFM Slider 6' | E110: 47000 | F110: 1 | G110: =N(D110)*N(E110)*N(F110) -> 0
B111: Ronford Baker 6' slider | E111: 47000 | F111: 1 | G111: =N(D111)*N(E111)*N(F111) -> 0
... B116: Panther Ubangi | E116: 22000 | F116: 1 | G116: =N(D116)*N(E116)*N(F116) -> 0
B118: UNDERWATER
B119: Scubacam SCU50 Housing for Alexa Mini, Sony Venice, RED | E119: 150000 | F119: 1 | G119: =N(D119)*N(E119)*N(F119) -> 0
...

Sheet Telescopic Crane
G1: TELESCOPIC CRANE
B2: Equipment & price list / Eszköz- és árlista · 2026/11
B4: Kraft Rental Hungary Kft. | D4: Production Title
B5: 1141 Budapest, Öv utca 7/B · Tax no. / Adószám: 11793849-2-42 | D5: Production Manager
B6: Storage / Raktár: 1141 Budapest, Öv utca 7–9. | D6: D.O.P
B7: Office / Iroda: +36 70 317 5058 | D7: Focus Puller
B8: Camera storage: +36 20 777 7470 · Light storage: +36 70 389 6868 | D8: Gaffer
B9: rental@kraftrental.hu · kraftrental.hu | D9: Key Grip
D10: Sound
D11: Project
D12: Shooting dates
B14: Equipment | C14: Note | D14: pc. | E14: Price / Day | F14: Days | G14: Total HUF
B15: Enter the quantity in the yellow "pc." column / Írd be a mennyiséget a sárga „pc.” oszlopba
B16: TELESCOPIC CRANE
B17: Moviebird 24 | C17: 3D Wall Box mode | Max nose load 60kg | E17: 450000 | F17: 1 | G17: =N(D17)*N(E17)*N(F17) -> 0
B18: Moviebird 27 | C18: 3D Wall Box mode | Max nose load 40kg | E18: 470000 | F18: 1 | G18: =N(D18)*N(E18)*N(F18) -> 0
B19: Moviebird 35 | C19: Max nose load 60kg | E19: 590000 | F19: 1 | G19: =N(D19)*N(E19)*N(F19) -> 0
B20: Moviebird 45 | C20: Max nose load 50kg | E20: 630000 | F20: 1 | G20: =N(D20)*N(E20)*N(F20) -> 0
B21: Moviebird 52 | C21: 3D Wall Box mode | E21: 590000 | F21: 1 | G21: =N(D21)*N(E21)*N(F21) -> 0
B22: Matrix mode for Moviebird | E22: 40000 | F22: 1 | G22: =N(D22)*N(E22)*N(F22) -> 0
B24: DOLLY TRACK
B25: Moviebird Straight Track(m) for Telescopic crane | E25: 6000 | F25: 1 | G25: =N(D25)*N(E25)*N(F25) -> 0
B27: HEADS
B28: Elit Giro Stabilized 3 axis Remote Head | E28: 150000 | F28: 1 | G28: =N(D28)*N(E28)*N(F28) -> 0
B29: Arri SRH-360 Stabilized Remote Head | E29: 290000 | F29: 1 | G29: =N(D29)*N(E29)*N(F29) -> 0
B30: Arri SRH-360 Panbar | E30: 33000 | F30: 1 | G30: =N(D30)*N(E30)*N(F30) -> 0
B31: Arri SRH-360 Gearhead | E31: 33000 | F31: 1 | G31: =N(D31)*N(E31)*N(F31) -> 0
B32: Moviebird Magic Head | E32: 110000 | F32: 1 | G32: =N(D32)*N(E32)*N(F32) -> 0
B33: Moviebird Magic Head - Gearhead control | E33: 20000 | F33: 1 | G33: =N(D33)*N(E33)*N(F33) -> 0
B35: GIMBAL / HEAD
B36: Arri Maxima with Controller | C36: Mitchel top plate|Mitchel bottom plate|Euro bottom plate | E36: 75000 | F36: 1 | G36: =N(D36)*N(E36)*N(F36) -> 0
B37: Freefly Mövi Pro | E37: 55000 | F37: 1 | G37: =N(D37)*N(E37)*N(F37) -> 0
B38: Freefly Mövi Pro ignite adapter | E38: 7000 | F38: 1 | G38: =N(D38)*N(E38)*N(F38) -> 0
B39: Freefly Mövi Pro battery DJI TB50 | E39: 7000 | F39: 1 | G39: =N(D39)*N(E39)*N(F39) -> 0
B40: Freefly Mövi Professional Controller | E40: 30000 | F40: 1 | G40: =N(D40)*N(E40)*N(F40) -> 0
B41: DJI Ronin 2 Pro kit with Controller | E41: 65000 | F41: 1 | G41: =N(D41)*N(E41)*N(F41) -> 0
B42: DJI Extra battery TB50 | E42: 6000 | F42: 1 | G42: =N(D42)*N(E42)*N(F42) -> 0
B44: Track Cart | E44: 10000 | F44: 1 | G44: =N(D44)*N(E44)*N(F44) -> 0
B45: Intercom set - Eartec Ultralite | C45: 5 channels | E45: 30000 | F45: 1 | G45: =N(D45)*N(E45)*N(F45) -> 0
B46: Intercom set - Riedel Bolero | C46: price / 1 channel | E46: 25000 | F46: 1 | G46: =N(D46)*N(E46)*N(F46) -> 0
B47: Intercom set - Holyland Headset (6ch) | E47: 30000 | F47: 1 | G47: =N(D47)*N(E47)*N(F47) -> 0
B48: Intercom set - Holyland Solidcom (8ch) | C48: 8 channels | E48: 50000 | F48: 1 | G48: =N(D48)*N(E48)*N(F48) -> 0
B50: 7,5T Truck special for Moviebird, 2T loading tail | C50: licence B+E | E50: 59000 | F50: 1 | G50: =N(D50)*N(E50)*N(F50) -> 0
B51: Driver for Moviebird Truck | E51: 35000 | F51: 1 | G51: =N(D51)*N(E51)*N(F51) -> 0
B53: TOTAL LIST PRICE / ÖSSZESEN (net, HUF) | G53: =SUM(G16:G52) -> 0
B55: The prices are indicative daily list prices (net, HUF). This file is not a quote. / A feltüntetett árak indikatív napi nettó listaárak, a változtatás jogát fenntartjuk. Ez a fájl nem minősül árajánlatnak.

Sheet Broadcast
G1: BROADCAST
B2: Equipment & price list / Eszköz- és árlista · 2026/11
B4: Kraft Rental Hungary Kft. | D4: Production Title
B5: 1141 Budapest, Öv utca 7/B · Tax no. / Adószám: 11793849-2-42 | D5: Production Manager
B6: Storage / Raktár: 1141 Budapest, Öv utca 7–9. | D6: D.O.P
B7: Office / Iroda: +36 70 317 5058 | D7: Focus Puller
B8: Camera storage: +36 20 777 7470 · Light storage: +36 70 389 6868 | D8: Gaffer
B9: rental@kraftrental.hu · kraftrental.hu | D9: Key Grip
D10: Sound
D11: Project
D12: Shooting dates
B14: Equipment | C14: Note | D14: pc. | E14: Price / Day | F14: Days | G14: Total HUF
B15: Enter the quantity in the yellow "pc." column / Írd be a mennyiséget a sárga „pc.” oszlopba
B16: CAMERA
B17: Sony PMW-500 with Canon HJ17x7.6 | E17: 35000 | F17: 1 | G17: =N(D17)*N(E17)*N(F17) -> 0
B18: Sony FDR AX53 camera | E18: 15000 | F18: 1 | G18: =N(D18)*N(E18)*N(F18) -> 0
B19: Sony HDR-CX625 camera | E19: 15000 | F19: 1 | G19: =N(D19)*N(E19)*N(F19) -> 0
B20: Canon XA10 camera | E20: 15000 | F20: 1 | G20: =N(D20)*N(E20)*N(F20) -> 0
B21: Sony PXW-Z750 | E21: 35000 | F21: 1 | G21: =N(D21)*N(E21)*N(F21) -> 0
B22: Sony PXW-Z200 | E22: 25000 | F22: 1 | G22: =N(D22)*N(E22)*N(F22) -> 0
B23: Sony PMW-400 broadcast camera | E23: 35000 | F23: 1 | G23: =N(D23)*N(E23)*N(F23) -> 0
B24: Sony PMW-350 broadcast camera | E24: 35000 | F24: 1 | G24: =N(D24)*N(E24)*N(F24) -> 0
B25: Sony HDC-P1 | E25: 25000 | F25: 1 | G25: =N(D25)*N(E25)*N(F25) -> 0
B26: Sony FS5 | E26: 25000 | F26: 1 | G26: =N(D26)*N(E26)*N(F26) -> 0
B27: Sony Z150 | E27: 15000 | F27: 1 | G27: =N(D27)*N(E27)*N(F27) -> 0
B29: LENS
B30: Canon HJ14x4.3 | E30: 27000 | F30: 1 | G30: =N(D30)*N(E30)*N(F30) -> 0
B31: Canon HJ11x4.7 | E31: 27000 | F31: 1 | G31: =N(D31)*N(E31)*N(F31) -> 0
B32: Canon HJ22x7.6 | E32: 27000 | F32: 1 | G32: =N(D32)*N(E32)*N(F32) -> 0
B33: Canon HJ21x7.5 broadcast zoom lens | E33: 27000 | F33: 1 | G33: =N(D33)*N(E33)*N(F33) -> 0
B34: Canon HJ21x7.6 broadcast zoom lens | E34: 27000 | F34: 1 | G34: =N(D34)*N(E34)*N(F34) -> 0
B35: Canon HJ21x7.8 broadcast zoom lens | E35: 27000 | F35: 1 | G35: =N(D35)*N(E35)*N(F35) -> 0
B36: Canon HJ24x7.5 broadcast zoom lens | E36: 27000 | F36: 1 | G36: =N(D36)*N(E36)*N(F36) -> 0
B37: Canon CJ24x7.5 broadcast zoom lens | E37: 27000 | F37: 1 | G37: =N(D37)*N(E37)*N(F37) -> 0
B38: Canon CJ12x4.3 broadcast zoom lens | E38: 27000 | F38: 1 | G38: =N(D38)*N(E38)*N(F38) -> 0
B39: Canon HJ40x10 broadcast zoom lens | E39: 27000 | F39: 1 | G39: =N(D39)*N(E39)*N(F39) -> 0
B40: Canon KJ13x6 broadcast zoom lens | E40: 27000 | F40: 1 | G40: =N(D40)*N(E40)*N(F40) -> 0
B41: Canon HJ1x4.5 broadcast zoom lens | E41: 27000 | F41: 1 | G41: =N(D41)*N(E41)*N(F41) -> 0
B42: Fujinon XA 17x7.6 BRM broadcast zoom lens | E42: 27000 | F42: 1 | G42: =N(D42)*N(E42)*N(F42) -> 0
B44: LENS ACCESSORIES
B45: Canon Zoom Servo | E45: 17000 | F45: 1 | G45: =N(D45)*N(E45)*N(F45) -> 0
B46: Canon Focus Controller | E46: 17000 | F46: 1 | G46: =N(D46)*N(E46)*N(F46) -> 0
B47: Manfrotto Zoom Servo | E47: 4000 | F47: 1 | G47: =N(D47)*N(E47)*N(F47) -> 0
B48: Sony RCP remote control | E48: 17000 | F48: 1 | G48: =N(D48)*N(E48)*N(F48) -> 0
B50: REMOTE CAMERA SYSTEMS
B51: Panasonic PTZ camera AW-HE60 | E51: 22000 | F51: 1 | G51: =N(D51)*N(E51)*N(F51) -> 0
B52: Panasonic HR140 4K | E52: 35000 | F52: 1 | G52: =N(D52)*N(E52)*N(F52) -> 0
B53: Panasonic AW-UE70 4K | E53: 30000 | F53: 1 | G53: =N(D53)*N(E53)*N(F53) -> 0
B54: Panasonic remote camera controller AW-RP50 | E54: 19000 | F54: 1 | G54: =N(D54)*N(E54)*N(F54) -> 0
B55: Panasonic remote camera controller AW-RP120 | E55: 19000 | F55: 1 | G55: =N(D55)*N(E55)*N(F55) -> 0
B56: Sony FR7 4K120 Full Frame PTZ Camera | E56: 120000 | F56: 1 | G56: =N(D56)*N(E56)*N(F56) -> 0
B57: Sony AM7 4K60 PTZ Camera | E57: 60000 | F57: 1 | G57: =N(D57)*N(E57)*N(F57) -> 0
B58: Panasonic AW-UR100 4K Outdoor PTZ Camera | E58: 60000 | F58: 1 | G58: =N(D58)*N(E58)*N(F58) -> 0
B59: Sony RM-IP500 PTZ Remote Camera Controller | E59: 25000 | F59: 1 | G59: =N(D59)*N(E59)*N(F59) -> 0
B60: Panasonic AW-RP150GJ Remote Camera Controller | E60: 25000 | F60: 1 | G60: =N(D60)*N(E60)*N(F60) -> 0
B62: MEMORY
B63: 32 GB SXS Card | E63: 4000 | F63: 1 | G63: =N(D63)*N(E63)*N(F63) -> 0
B64: 64 GB SXS Card | E64: 10000 | F64: 1 | G64: =N(D64)*N(E64)*N(F64) -> 0
B65: 128 GB SXS Pro Card | E65: 12000 | F65: 1 | G65: =N(D65)*N(E65)*N(F65) -> 0
B67: STAND
B68: Sachtler 18 (100mm bowl) | E68: 10000 | F68: 1 | G68: =N(D68)*N(E68)*N(F68) -> 0
B70: CAMERA HEAD LIGHT
B71: LED camera light CROMA2 | E71: 500 | F71: 1 | G71: =N(D71)*N(E71)*N(F71) -> 0
B73: VIDEO MIXER
B74: Sony MCS8M | E74: 45000 | F74: 1 | G74: =N(D74)*N(E74)*N(F74) -> 0
B75: Blackmagic video mixer ATEM 2 M/E Production Studio 4K | E75: 60000 | F75: 1 | G75: =N(D75)*N(E75)*N(F75) -> 0
B76: Blackmagic video mixer ATEM 1 M/E advanced panel | E76: 35000 | F76: 1 | G76: =N(D76)*N(E76)*N(F76) -> 0
B77: Pegasus 12TB NAS | E77: 80000 | F77: 1 | G77: =N(D77)*N(E77)*N(F77) -> 0
B78: 4TB G-Drive | E78: 10000 | F78: 1 | G78: =N(D78)*N(E78)*N(F78) -> 0
B79: Blackmagic ATEM 2 M/E Constellation 4K | E79: 15000 | F79: 1 | G79: =N(D79)*N(E79)*N(F79) -> 0
B81: CONVERTERS
B82: SDI multiviewer | E82: 7000 | F82: 1 | G82: =N(D82)*N(E82)*N(F82) -> 0
B83: HDMI to SDI converter | E83: 5000 | F83: 1 | G83: =N(D83)*N(E83)*N(F83) -> 0
B84: SDI to HDMI converter | E84: 5000 | F84: 1 | G84: =N(D84)*N(E84)*N(F84) -> 0
B85: SDI splitter | E85: 5000 | F85: 1 | G85: =N(D85)*N(E85)*N(F85) -> 0
B86: HDMI splitter | E86: 5000 | F86: 1 | G86: =N(D86)*N(E86)*N(F86) -> 0
B88: INTERCOM
B89: Riedel Bolero - 1 channel | E89: 25000 | F89: 1 | G89: =N(D89)*N(E89)*N(F89) -> 0
B90: Narval Acustics base station | E90: 20000 | F90: 1 | G90: =N(D90)*N(E90)*N(F90) -> 0
B91: Riedel Bolero Intercom Set (5pc) | E91: 100000 | F91: 1 | G91: =N(D91)*N(E91)*N(F91) -> 0
B93: TOTAL LIST PRICE / ÖSSZESEN (net, HUF) | G93: =SUM(G16:G92) -> 0
B95: The prices are indicative daily list prices (net, HUF). This file is not a quote. / A feltüntetett árak indikatív napi nettó listaárak, a változtatás jogát fenntartjuk. Ez a fájl nem minősül árajánlatnak.

Sheet Transport
G1: TRANSPORT
B2: Equipment & price list / Eszköz- és árlista · 2026/11
B4: Kraft Rental Hungary Kft. | D4: Production Title
B5: 1141 Budapest, Öv utca 7/B · Tax no. / Adószám: 11793849-2-42 | D5: Production Manager
B6: Storage / Raktár: 1141 Budapest, Öv utca 7–9. | D6: D.O.P
B7: Office / Iroda: +36 70 317 5058 | D7: Focus Puller
B8: Camera storage: +36 20 777 7470 · Light storage: +36 70 389 6868 | D8: Gaffer
B9: rental@kraftrental.hu · kraftrental.hu | D9: Key Grip
D10: Sound
D11: Project
D12: Shooting dates
B14: Equipment | C14: Note | D14: pc. | E14: Price / Day | F14: Days | G14: Total HUF
B15: Enter the quantity in the yellow "pc." column / Írd be a mennyiséget a sárga „pc.” oszlopba
B16: 3,5T Truck with Rearlift | E16: 42000 | F16: 1 | G16: =N(D16)*N(E16)*N(F16) -> 0
B17: 3,5T Truck Long | E17: 37000 | F17: 1 | G17: =N(D17)*N(E17)*N(F17) -> 0
B18: 3,5T Truck | E18: 37000 | F18: 1 | G18: =N(D18)*N(E18)*N(F18) -> 0
B19: 3,5T Truck Small | E19: 37000 | F19: 1 | G19: =N(D19)*N(E19)*N(F19) -> 0
B20: 12T Truck | E20: 59000 | F20: 1 | G20: =N(D20)*N(E20)*N(F20) -> 0
B21: 7.5T Truck | E21: 48000 | F21: 1 | G21: =N(D21)*N(E21)*N(F21) -> 0
B23: 3,5t Extra fee / km (50km included / day) | E23: 190 | F23: 1 | G23: =N(D23)*N(E23)*N(F23) -> 0
B24: 7,5t Extra fee / km (50km included / day) | E24: 230 | F24: 1 | G24: =N(D24)*N(E24)*N(F24) -> 0
B25: 12t Extra fee / km (50km included / day) | E25: 270 | F25: 1 | G25: =N(D25)*N(E25)*N(F25) -> 0
B27: TOTAL LIST PRICE / ÖSSZESEN (net, HUF) | G27: =SUM(G16:G26) -> 0
B29: The prices are indicative daily list prices (net, HUF). This file is not a quote. / A feltüntetett árak indikatív napi nettó listaárak, a változtatás jogát fenntartjuk. Ez a fájl nem minősül árajánlatnak.

Sheet Sound
G1: SOUND
B2: Equipment & price list / Eszköz- és árlista · 2026/11
B4: Kraft Rental Hungary Kft. | D4: Production Title
B5: 1141 Budapest, Öv utca 7/B · Tax no. / Adószám: 11793849-2-42 | D5: Production Manager
B6: Storage / Raktár: 1141 Budapest, Öv utca 7–9. | D6: D.O.P
B7: Office / Iroda: +36 70 317 5058 | D7: Focus Puller
B8: Camera storage: +36 20 777 7470 · Light storage: +36 70 389 6868 | D8: Gaffer
B9: rental@kraftrental.hu · kraftrental.hu | D9: Key Grip
D10: Sound
D11: Project
D12: Shooting dates
B14: Equipment | C14: Included / Specific | D14: pc. | E14: Price / Day | F14: Days | G14: Total HUF
B15: Enter the quantity in the yellow "pc." column / Írd be a mennyiséget a sárga „pc.” oszlopba
B16: Sound Recorders & Mixers
B17: Sound Devices 688 recorder | C17: CL-6, 2x V-lock battery, charger, D-tap-Hirose cable, CF card, SD card, bag | E17: 20000 | F17: 1 | G17: =N(D17)*N(E17)*N(F17) -> 0
B18: Sound Devices 664 recorder | C18: + CL-6 recorder (2x V-lock battery, 1x V-lock charger, D-tap-Hirose cable, 1x CF card, 1x SD card, bag) | E18: 16000 | F18: 1 | G18: =N(D18)*N(E18)*N(F18) -> 0
B19: Sound Devices 633 recorder | C19: 2x NPF battery/2x V-lock, charger, D-tap-Hirose cable, CF card, SD card, bag | E19: 12000 | F19: 1 | G19: =N(D19)*N(E19)*N(F19) -> 0
B20: Zaxcom Nomad 10 recorder | C20: recorder (2x V-lock battery, 1x V-lock charger, D-tap-Hirose cable, 2x same speed CF card, bag) | E20: 12000 | F20: 1 | G20: =N(D20)*N(E20)*N(F20) -> 0
B21: Zoom F8n recorder | C21: (2x V-lock battery, 1x V-lock charger, D-tap-Hirose cable, SD card, bag) | E21: 8000 | F21: 1 | G21: =N(D21)*N(E21)*N(F21) -> 0
B22: Sound Devices 302 mixer | C22: (1x V-lock battery, V-lock charger, D-tap-Hirose cable, bag) | E22: 12000 | F22: 1 | G22: =N(D22)*N(E22)*N(F22) -> 0
B23: Sound devices Wingman | E23: 2000 | F23: 1 | G23: =N(D23)*N(E23)*N(F23) -> 0
B24: Sound Devices CL-12 controller | E24: 6000 | F24: 1 | G24: =N(D24)*N(E24)*N(F24) -> 0
B25: Sound Devices CL-6 input controller | E25: 4000 | F25: 1 | G25: =N(D25)*N(E25)*N(F25) -> 0
B26: Sound Devices Scorpio sound mixer | E26: 40000 | F26: 1 | G26: =N(D26)*N(E26)*N(F26) -> 0
B27: Sound Devices 442 mixer | E27: 12000 | F27: 1 | G27: =N(D27)*N(E27)*N(F27) -> 0
B28: Sound Devices MixPre 3 | E28: 12000 | F28: 1 | G28: =N(D28)*N(E28)*N(F28) -> 0
B29: Tascam DR-40 recorder | E29: 12000 | F29: 1 | G29: =N(D29)*N(E29)*N(F29) -> 0
B30: Azden FMX-42 mixer | E30: 12000 | F30: 1 | G30: =N(D30)*N(E30)*N(F30) -> 0
B31: Tascam DA-6400 recorder | E31: 12000 | F31: 1 | G31: =N(D31)*N(E31)*N(F31) -> 0
B33: Boom microphones
B34: Sennheiser MKH 416 microphone set | C34: zeppelin, deadcat, boompole, XLR cable | E34: 9500 | F34: 1 | G34: =N(D34)*N(E34)*N(F34) -> 0
B35: Sennheiser MKH 50 microphone | C35: XLR cable | E35: 5000 | F35: 1 | G35: =N(D35)*N(E35)*N(F35) -> 0
B36: Sennheiser MKH 418-S stereo microphone | C36: XLR cable | E36: 7500 | F36: 1 | G36: =N(D36)*N(E36)*N(F36) -> 0
B37: Neumann KM184 microphone set | C37: zeppelin, deadcat, boompole, XLR cable | E37: 9500 | F37: 1 | G37: =N(D37)*N(E37)*N(F37) -> 0
B38: Neumann KM185 microphone set | C38: zeppelin, deadcat, boompole, XLR cable | E38: 9500 | F38: 1 | G38: =N(D38)*N(E38)*N(F38) -> 0
B39: Sennheiser MKH 416 microphone | C39: XLR cable | E39: 5000 | F39: 1 | G39: =N(D39)*N(E39)*N(F39) -> 0
B40: Schoeps CMIT5 microphone set | C40: zeppelin, deadcat, boompole, XLR cable, analogue adapter | E40: 14500 | F40: 1 | G40: =N(D40)*N(E40)*N(F40) -> 0
B42: Microphones
B43: Sennheiser SKM100 wireless microphone | C43: transmitter | E43: 2500 | F43: 1 | G43: =N(D43)*N(E43)*N(F43) -> 0
B44: Sennheiser G3 EK100 receiver | E44: 2500 | F44: 1 | G44: =N(D44)*N(E44)*N(F44) -> 0
B45: Rode VideoMic Pro | C45: 9V battery, Jack connector | E45: 4000 | F45: 1 | G45: =N(D45)*N(E45)*N(F45) -> 0
B46: Neumann TLM102 microphone | C46: XLR cable | E46: 5000 | F46: 1 | G46: =N(D46)*N(E46)*N(F46) -> 0
B47: Neumann TLM103 microphone | C47: XLR cable | E47: 5000 | F47: 1 | G47: =N(D47)*N(E47)*N(F47) -> 0
B48: Neumann KM184 microphone | C48: XLR cable | E48: 5000 | F48: 1 | G48: =N(D48)*N(E48)*N(F48) -> 0
B49: Neumann KM185 microphone | C49: XLR cable | E49: 5000 | F49: 1 | G49: =N(D49)*N(E49)*N(F49) -> 0
B50: Sony ECM-673 shotgun microphone | C50: XLR cable | E50: 5000 | F50: 1 | G50: =N(D50)*N(E50)*N(F50) -> 0
B51: Sony ECM-VG1 shotgun microphone | C51: XLR cable | E51: 5000 | F51: 1 | G51: =N(D51)*N(E51)*N(F51) -> 0
B52: Sony ECM-XM1 shotgun microphone | C52: XLR cable | E52: 5000 | F52: 1 | G52: =N(D52)*N(E52)*N(F52) -> 0
B53: Sennheiser E912 microphone | E53: 3000 | F53: 1 | G53: =N(D53)*N(E53)*N(F53) -> 0
B54: AKG C417 lavalier | E54: 3000 | F54: 1 | G54: =N(D54)*N(E54)*N(F54) -> 0
B55: Rycote Microphone Suspension | E55: 500 | F55: 1 | G55: =N(D55)*N(E55)*N(F55) -> 0
B56: Electro-Voice RE-50B | C56: XLR cable | E56: 2000 | F56: 1 | G56: =N(D56)*N(E56)*N(F56) -> 0
B57: Talpas mikrofon | E57: 2000 | F57: 1 | G57: =N(D57)*N(E57)*N(F57) -> 0
B59: Boom pole
B60: Rycote A5 boom pole | C60: 66-250cm | E60: 2500 | F60: 1 | G60: =N(D60)*N(E60)*N(F60) -> 0
B61: VDB M Boom pole | C61: 60-266 cm | E61: 2500 | F61: 1 | G61: =N(D61)*N(E61)*N(F61) -> 0
B62: Ambient QP 480 Boom pole | C62: 105-345 cm | E62: 2500 | F62: 1 | G62: =N(D62)*N(E62)*N(F62) -> 0
B63: Ambient QP 4140 Boom pole | C63: 154-520 cm | E63: 2500 | F63: 1 | G63: =N(D63)*N(E63)*N(F63) -> 0
B64: Ambient QX 5130 Boom pole | C64: 130-540 cm | E64: 2500 | F64: 1 | G64: =N(D64)*N(E64)*N(F64) -> 0
B66: Wisycom & Lectrosonics & Sennheiser
B67: Sennheiser G3 microport MKE-2 | C67: EK100, SK100, CL-100/CL-1 cable, MKE-2 lavalier | E67: 9000 | F67: 1 | G67: =N(D67)*N(E67)*N(F67) -> 0
B68: Lectrosonics single microport MKE-2 | C68: SRB dual receiver, SMQV transmitter, mini XLR cable, MKE-2 lavalier | E68: 13000 | F68: 1 | G68: =N(D68)*N(E68)*N(F68) -> 0
B69: Lectrosonics single microport MKE-1 | C69: SRB dual receiver, SMQV transmitter, mini XLR cable, MKE-1 lavalier | E69: 15000 | F69: 1 | G69: =N(D69)*N(E69)*N(F69) -> 0
B70: Lectrosonics dual microport MKE-2 | C70: SRB dual receiver, 2x SMQV transmitter, mini XLR cable, 2x MKE-2 lavalier | E70: 21000 | F70: 1 | G70: =N(D70)*N(E70)*N(F70) -> 0
B71: Lectrosonics dual microport MKE-1 | C71: SRB dual receiver, 2x SMQV bodypack transmitter, mini XLR cable, 2x MKE-1 lavalier | E71: 25000 | F71: 1 | G71: =N(D71)*N(E71)*N(F71) -> 0
B72: Wisycom single microport MKE-2 | C72: MCR42S dual receiver, 1x MTP40 S transmitter, mini XLR-XLR cable, D-tap-Hirose cable, 1x MKE-2 lavalier | E72: 18000 | F72: 1 | G72: =N(D72)*N(E72)*N(F72) -> 0
B73: Wisycom single microport MKE-1 | C73: MCR42S dual receiver, 1x MTP40 S transmitter, mini XLR-XLR cable, D-tap-Hirose cable, 1x MKE-1 lavalier | E73: 20000 | F73: 1 | G73: =N(D73)*N(E73)*N(F73) -> 0
B74: Wisycom single microport Countryman | C74: MCR42S dual receiver, 1x MTP40 S transmitter, mini XLR-XLR cable, D-tap-Hirose cable, 1x Countryman lavalier | E74: 18000 | F74: 1 | G74: =N(D74)*N(E74)*N(F74) -> 0
B75: Wisycom quad microport MKE-2 | C75: MCR54 dual receiver, 4x MTP40 S transmitter, mini XLR-XLR cable, D-tap-Hirose cable, 4x MKE-2 lavalier | E75: 52000 | F75: 1 | G75: =N(D75)*N(E75)*N(F75) -> 0
B76: Wisycom quad microport MKE-1 | C76: MCR54 dual receiver, 4x MTP40 S transmitter, mini XLR-XLR cable, D-tap-Hirose cable, 4x MKE-1 lavalier | E76: 60000 | F76: 1 | G76: =N(D76)*N(E76)*N(F76) -> 0
B77: Wisycom dual microport MKE-2 | C77: MCR42S dual receiver, 2x MTP40 S transmitter, mini XLR-XLR cable, D-tap-Hirose cable, 2x MKE-2 lavalier | E77: 26000 | F77: 1 | G77: =N(D77)*N(E77)*N(F77) -> 0
B78: Wisycom dual microport MKE-1 | C78: MCR42S dual receiver, 2x MTP40 S transmitter, mini XLR-XLR cable, D-tap-Hirose cable, 2x MKE-1 lavalier | E78: 30000 | F78: 1 | G78: =N(D78)*N(E78)*N(F78) -> 0
... B81: Wisycom ENG microport MKE-1 | C81: MPR30-ENG receiver, 1x MTP40 S transmitter, mini XLR-XLR cable, 1x MKE-1 lavalier | E81: 15000 | F81: 1 | G81: =N(D81)*N(E81)*N(F81) -> 0
B83: Single wireless system
B84: Sennheiser G3 EK100 receiver | E84: 2500 | F84: 1 | G84: =N(D84)*N(E84)*N(F84) -> 0
B85: Sennheiser G3 SK100 transmitter | E85: 2500 | F85: 1 | G85: =N(D85)*N(E85)*N(F85) -> 0
B86: Wisycom MCR42S dual receiver | E86: 10000 | F86: 1 | G86: =N(D86)*N(E86)*N(F86) -> 0
B87: Lectrosonics SRB dual receiver | E87: 5000 | F87: 1 | G87: =N(D87)*N(E87)*N(F87) -> 0
B88: Wisycom MTP40 S transmitter | E88: 5000 | F88: 1 | G88: =N(D88)*N(E88)*N(F88) -> 0
B89: Wisycom MTP40 Lite transmitter | E89: 5000 | F89: 1 | G89: =N(D89)*N(E89)*N(F89) -> 0
B90: Wisycom MTP41S transmitter | E90: 5000 | F90: 1 | G90: =N(D90)*N(E90)*N(F90) -> 0
B91: Wisycom MCR42S dual receiver | E91: 10000 | F91: 1 | G91: =N(D91)*N(E91)*N(F91) -> 0
B92: Wisycom MPR30-ENG receiver | E92: 5000 | F92: 1 | G92: =N(D92)*N(E92)*N(F92) -> 0
B93: Wisycom MCR54 Dual (2 ch) receiver | E93: 13000 | F93: 1 | G93: =N(D93)*N(E93)*N(F93) -> 0
B95: Antenna
B96: Dinkum Fleximount | E96: 500 | F96: 1 | G96: =N(D96)*N(E96)*N(F96) -> 0
B97: Riegler Active antenna splitter | E97: 5000 | F97: 1 | G97: =N(D97)*N(E97)*N(F97) -> 0
B98: Riegler Active antenna combiner | E98: 5000 | F98: 1 | G98: =N(D98)*N(E98)*N(F98) -> 0
B99: Wisycom antenna | C99: LNN1 wideband | E99: 10000 | F99: 1 | G99: =N(D99)*N(E99)*N(F99) -> 0
B100: Wisycom antenna amplifier | C100: BAA wideband | E100: 5000 | F100: 1 | G100: =N(D100)*N(E100)*N(F100) -> 0
B101: Lectrosonics Antenna | C101: ALP 650 LPDA Shark Fin Style | E101: 1000 | F101: 1 | G101: =N(D101)*N(E101)*N(F101) -> 0
B102: Sennheiser passive antenna | C102: A 2003-UHF | E102: 1000 | F102: 1 | G102: =N(D102)*N(E102)*N(F102) -> 0
B103: Sennheiser active antenna | C103: AD 3700 | E103: 1000 | F103: 1 | G103: =N(D103)*N(E103)*N(F103) -> 0
B104: Sennheiser antenna splitter | C104: ASA 1 | E104: 5000 | F104: 1 | G104: =N(D104)*N(E104)*N(F104) -> 0
B105: Sennheiser antenna booster | C105: AB 3700 | E105: 5000 | F105: 1 | G105: =N(D105)*N(E105)*N(F105) -> 0
B106: 50Ω antennakábel | E106: 1000 | F106: 1 | G106: =N(D106)*N(E106)*N(F106) -> 0
B107: Wisycom RFOF (RF-Over-Fiber) Kit | E107: 25000 | F107: 1 | G107: =N(D107)*N(E107)*N(F107) -> 0
B108: Wisycom MAT244 Antenna Matrix | E108: 10000 | F108: 1 | G108: =N(D108)*N(E108)*N(F108) -> 0
B110: Rack Mounted Wireless Systems
B111: Sennheiser EM100 wireless receiver | C111: asztali | E111: 2500 | F111: 1 | G111: =N(D111)*N(E111)*N(F111) -> 0
...

Sheet Studio
G1: STUDIO
B2: Equipment & price list / Eszköz- és árlista · 2026/11
B4: Kraft Rental Hungary Kft. | D4: Production Title
B5: 1141 Budapest, Öv utca 7/B · Tax no. / Adószám: 11793849-2-42 | D5: Production Manager
B6: Storage / Raktár: 1141 Budapest, Öv utca 7–9. | D6: D.O.P
B7: Office / Iroda: +36 70 317 5058 | D7: Focus Puller
B8: Camera storage: +36 20 777 7470 · Light storage: +36 70 389 6868 | D8: Gaffer
B9: rental@kraftrental.hu · kraftrental.hu | D9: Key Grip
D10: Sound
D11: Project
D12: Shooting dates
B14: Studio / Stage | C14: Note | D14: Qty | E14: Price / Day | F14: Days | G14: Total HUF
B15: Enter the number of days in the yellow "Days" column / Írd be a napok számát a sárga „Days” oszlopba
B16: 1141 Budapest, Öv utca 7.
B17: Kraft Studio 1. / 300 m2 when camera / lighting / grip package deal | C17: 60 m2 beauty and wardrobe area included! | D17: 1 | E17: 300000 | G17: =N(D17)*N(E17)*N(F17) -> 0
B18: Kraft Studio 1. Setup / Breakdown days with camera / lighting / grip package deal | D18: 1 | E18: 200000 | G18: =N(D18)*N(E18)*N(F18) -> 0
B20: Kraft Studio 2. / 500 m2 when camera / lighting / grip package deal | C20: 60 m2 beauty and wardrobe area included! | D20: 1 | E20: 390000 | G20: =N(D20)*N(E20)*N(F20) -> 0
B21: Kraft Studio 2. Setup / Breakdown days with camera / lighting / grip package deal | D21: 1 | E21: 290000 | G21: =N(D21)*N(E21)*N(F21) -> 0
B23: Kraft Studio 5. / 400 m2 when camera / lighting / grip package deal | C23: 200 m2 lobby, beauty and wardrobe area included! | D23: 1 | E23: 360000 | G23: =N(D23)*N(E23)*N(F23) -> 0
B24: Kraft Studio 5. Setup / Breakdown days with camera / lighting / grip package deal | D24: 1 | E24: 260000 | G24: =N(D24)*N(E24)*N(F24) -> 0
B26: Öv utca Office Space 1. - 28 m2 | D26: 1 | E26: 15000 | G26: =N(D26)*N(E26)*N(F26) -> 0
B27: Öv utca Meeting Room - 32 m2 | D27: 1 | E27: 20000 | G27: =N(D27)*N(E27)*N(F27) -> 0
B28: Öv utca Office Space 2. - 28 m2 | D28: 1 | E28: 15000 | G28: =N(D28)*N(E28)*N(F28) -> 0
B30: Kraft - Photo Stage / 200 m2 | C30: 80 m2 beauty and kitchen | D30: 1 | E30: 140000 | G30: =N(D30)*N(E30)*N(F30) -> 0
B31: Kraft - Photo Stage / 200 m2 - HOURLY RATE (min. 4 HOURS) | C31: 80 m2 beauty and kitchen | D31: 1 | E31: 20000 | G31: =N(D31)*N(E31)*N(F31) -> 0
B33: 1172 Budapest, Rétifarkas utca
B34: Kraft Studio 3. / 750 m2 with camera and/or lighting and/or grip equipment provided by kraft only | C34: 60 m2 beauty and wardrobe area included! | D34: 1 | E34: 550000 | G34: =N(D34)*N(E34)*N(F34) -> 0
B35: Kraft Studio 3. Setup / Breakdown days | D35: 1 | E35: 350000 | G35: =N(D35)*N(E35)*N(F35) -> 0
B37: Kraft Studio 4. / 1400 m2 with camera and/or lighting and/or grip equipment provided by kraft only | C37: 60 m2 beauty and wardrobe area included! | D37: 1 | E37: 850000 | G37: =N(D37)*N(E37)*N(F37) -> 0
B38: Kraft Studio 4. Setup / Breakdown days | D38: 1 | E38: 500000 | G38: =N(D38)*N(E38)*N(F38) -> 0
B40: Kraft Workshop / 250 m2 in addition to one of the studios at Retifarkas street | D40: 1 | E40: 120000 | G40: =N(D40)*N(E40)*N(F40) -> 0
B42: Office space / 12 m2 / room in addition to studio rental | D42: 5 | E42: 9000 | G42: =N(D42)*N(E42)*N(F42) -> 0
B44: 1165 Budapest, Légcsavar utca 5.
B45: Kraft Studio 6. / 1400 m2 stage | C45: 13.6 m clear height, 3x630 A power, 10 t rigging per pillar, floor heating, 900 m2 office + 300 m2 lobby | D45: 1 | E45: Ask for Quote | G45: =N(D45)*N(E45)*N(F45) -> 0
B46: Kraft Studio 6. Setup / Breakdown days | D46: 1 | E46: Ask for Quote | G46: =N(D46)*N(E46)*N(F46) -> 0
B48: Package price for longer rental periods (min. 1 month) for the entire facility (price / week) | E48: Ask for Quote | G48: =N(D48)*N(E48)*N(F48) -> 0
B50: Rigging to be ordered seperately in all stages! | C50: Rigging to be ordered seperately in all stages! | E50: Ask for Quote | G50: =N(D50)*N(E50)*N(F50) -> 0
B52: Power consumption / Áram fogyasztás (Ft/kW) - Öv street | C52: Post Accounting | E52: 140 | G52: =N(D52)*N(E52)*N(F52) -> 0
B53: Power consumption / Áram fogyasztás (Ft/kW) - Rétifarkas street | C53: Post Accounting | E53: 210 | G53: =N(D53)*N(E53)*N(F53) -> 0
B54: Cleanup fee + amenities | C54: Post Accounting | E54: 35000 | G54: =N(D54)*N(E54)*N(F54) -> 0
B56: Set Design and Construction / Díszletépítés | E56: Ask for Quote | G56: =N(D56)*N(E56)*N(F56) -> 0
B58: TOTAL LIST PRICE / ÖSSZESEN (net, HUF) | G58: =SUM(G16:G57) -> 0
B60: The prices are indicative daily list prices (net, HUF). This file is not a quote. / A feltüntetett árak indikatív napi nettó listaárak, a változtatás jogát fenntartjuk. Ez a fájl nem minősül árajánlatnak.

Sheet Rigging
G1: RIGGING
B2: Equipment & price list / Eszköz- és árlista · 2026/11
B4: Kraft Rental Hungary Kft. | D4: Production Title
B5: 1141 Budapest, Öv utca 7/B · Tax no. / Adószám: 11793849-2-42 | D5: Production Manager
B6: Storage / Raktár: 1141 Budapest, Öv utca 7–9. | D6: D.O.P
B7: Office / Iroda: +36 70 317 5058 | D7: Focus Puller
B8: Camera storage: +36 20 777 7470 · Light storage: +36 70 389 6868 | D8: Gaffer
B9: rental@kraftrental.hu · kraftrental.hu | D9: Key Grip
D10: Sound
D11: Project
D12: Shooting dates
B14: Equipment | C14: Note | D14: pc. | E14: Price / Day | F14: Days | G14: Total HUF
B15: Enter the quantity in the yellow "pc." column / Írd be a mennyiséget a sárga „pc.” oszlopba
B16: Alutruss (m) | E16: 4000 | F16: 1 | G16: =N(D16)*N(E16)*N(F16) -> 0
B17: Triangle Alu Truss (m) | E17: 4000 | F17: 1 | G17: =N(D17)*N(E17)*N(F17) -> 0
B18: Truss Angle 3 way | E18: 5000 | F18: 1 | G18: =N(D18)*N(E18)*N(F18) -> 0
B19: Truss Angle 2 way | E19: 5000 | F19: 1 | G19: =N(D19)*N(E19)*N(F19) -> 0
B20: Truss base 3 point | E20: 2000 | F20: 1 | G20: =N(D20)*N(E20)*N(F20) -> 0
B21: Truss holder for lamp stand | E21: 1000 | F21: 1 | G21: =N(D21)*N(E21)*N(F21) -> 0
B23: 7' Scaffold Tube | E23: 1500 | F23: 1 | G23: =N(D23)*N(E23)*N(F23) -> 0
B24: 8' Scaffold Tube | E24: 1800 | F24: 1 | G24: =N(D24)*N(E24)*N(F24) -> 0
B25: 9' Scaffold Tube | E25: 2100 | F25: 1 | G25: =N(D25)*N(E25)*N(F25) -> 0
B26: 10' Scaffold Tube | E26: 2400 | F26: 1 | G26: =N(D26)*N(E26)*N(F26) -> 0
B27: 11' Scaffold Tube | E27: 2700 | F27: 1 | G27: =N(D27)*N(E27)*N(F27) -> 0
B28: 12' Scaffold Tube | E28: 3000 | F28: 1 | G28: =N(D28)*N(E28)*N(F28) -> 0
... B60: Spanifer / Ratchet Strap | E60: 700 | F60: 1 | G60: =N(D60)*N(E60)*N(F60) -> 0
B62: TOTAL LIST PRICE / ÖSSZESEN (net, HUF) | G62: =SUM(G16:G61) -> 0
B64: The prices are indicative daily list prices (net, HUF). This file is not a quote. / A feltüntetett árak indikatív napi nettó listaárak, a változtatás jogát fenntartjuk. Ez a fájl nem minősül árajánlatnak.

Sheet LED WALL
G1: LED WALL
B2: Equipment & price list / Eszköz- és árlista · 2026/11
B4: Kraft Rental Hungary Kft. | D4: Production Title
B5: 1141 Budapest, Öv utca 7/B · Tax no. / Adószám: 11793849-2-42 | D5: Production Manager
B6: Storage / Raktár: 1141 Budapest, Öv utca 7–9. | D6: D.O.P
B7: Office / Iroda: +36 70 317 5058 | D7: Focus Puller
B8: Camera storage: +36 20 777 7470 · Light storage: +36 70 389 6868 | D8: Gaffer
B9: rental@kraftrental.hu · kraftrental.hu | D9: Key Grip
D10: Sound
D11: Project
D12: Shooting dates
B14: LED Wall / Virtual studio | C14: Specification | D14: Qty | E14: Price / Day | F14: Days | G14: Total HUF
B15: Enter the number of days in the yellow "Days" column / Írd be a napok számát a sárga „Days” oszlopba
B16: LED WALL // Virtual Studio
B17: LED WALL 7m x 5.5m | C17: 2688 x 2112 pixel // 2K | D17: 1 | E17: 1840000 | G17: =N(D17)*N(E17)*N(F17) -> 0
C18: · Video processing
C19: · Pixera Ada5000 media server
C20: · Pixera media server operator
C21: · Absen NT XR 2.6mm (A10s receiving card)
C22: · NovaStar MX40 Pro
C23: · 100fps
C24: · 10bit
B25: LED WALL 14m x 5.5m | C25: 5376 x 2112 pixel // 5K | D25: 1 | E25: 3382000 | G25: =N(D25)*N(E25)*N(F25) -> 0
C26: · Video processing
C27: · Pixera Ada5000 media server
C28: · Pixera media server operator
C29: · Absen NT XR 2.6mm (A10s receiving card)
C30: · NovaStar MX40 Pro
C31: · 100fps
C32: · 10bit
B33: LED WALL 21m x 5.5m | C33: 8064 x 2112 pixel // 8K | D33: 1 | E33: 4752000 | G33: =N(D33)*N(E33)*N(F33) -> 0
C34: · Video processing
C35: · Pixera Ada5000 media server
C36: · Pixera media server operator
C37: · Absen NT XR 2.6mm (A10s receiving card)
C38: · NovaStar MX40 Pro
C39: · 100fps
C40: · 10bit
B41: LED WALL 25m x 5.5m | C41: 9600 x 2112 pixel // 10K | D41: 1 | E41: 5848000 | G41: =N(D41)*N(E41)*N(F41) -> 0
C42: · Video processing
C43: · Pixera Ada5000 media server
C44: · Pixera media server operator
C45: · Absen NT XR 2.6mm (A10s receiving card)
C46: · NovaStar MX40 Pro
C47: · 100fps
C48: · 10bit
B49: Additional LED Options
B50: LED Ceiling | D50: 1 | E50: 580000 | G50: =N(D50)*N(E50)*N(F50) -> 0
C51: · 3m x 5m Yestech P2.8mm
C52: · Rigging
C53: · Frosting
B54: Rolling LED | D54: 1 | E54: 460000 | G54: =N(D54)*N(E54)*N(F54) -> 0
C55: · 5mx2.5m Absen NT XR 2.6mm
C56: · rigging
B57: Unreal engine 3D (requires camera tracking) | C57: Required if content is 3D | D57: 1 | E57: 400000 | G57: =N(D57)*N(E57)*N(F57) -> 0
C58: · Unreal engine operator
C59: · Unreal capable media servers
B60: Camera tracking for 1 camera | D60: 1 | E60: 320000 | G60: =N(D60)*N(E60)*N(F60) -> 0
C61: · Stype tracking system (Option)
C62: · Optitrack tracking system (Option)
C63: · Tracking operator
B64: Camera track recording | D64: 1 | E64: 200000 | G64: =N(D64)*N(E64)*N(F64) -> 0
C65: · Recording server
C66: · Recording license
C67: · Data wrangler
B69: TOTAL LIST PRICE / ÖSSZESEN (net, HUF) | G69: =SUM(G16:G68) -> 0
B71: The prices are indicative daily list prices (net, HUF). This file is not a quote. / A feltüntetett árak indikatív napi nettó listaárak, a változtatás jogát fenntartjuk. Ez a fájl nem minősül árajánlatnak.

Sheet Expendables
C1: EXPENDABLES
B2: Equipment & price list / Eszköz- és árlista · 2026/11
B4: Kraft Rental Hungary Kft.
B5: 1141 Budapest, Öv utca 7/B · Tax no. / Adószám: 11793849-2-42
B6: Storage / Raktár: 1141 Budapest, Öv utca 7–9.
B7: Office / Iroda: +36 70 317 5058
B8: Camera storage: +36 20 777 7470 · Light storage: +36 70 389 6868
B9: rental@kraftrental.hu · kraftrental.hu
B14: Item | C14: pc.
B15: Prices on request / Az árakat egyedi ajánlatban adjuk meg
B16: GELS
B17: CTO 1/1
B18: CTO 1/2
B19: CTO 1/4
B20: CTO 1/8
B21: CTS 1/1
B22: CTS 1/2
B23: CTS 1/4
B24: CTS 1/8
B25: deep straw
B26: sun colour straw
... B144: matt

Sheet General Terms and Conditions
B3: ÁLTALÁNOS BÉRLETI FELTÉTELEK / GENERAL TERMS AND CONDITIONS
B4: (a továbbiakban: „ÁSZF”)
B5: 1. Értelmező rendelkezések
B6: 1.1. Bérbeadó: A Cg.01-09-677087 cégjegyzékszámú Kraft Rental Hungary Korlátolt Felelősségű Társaság (1141 Budapest, Öv utca 7. B. ép.; adószám: 11793849-2-42)
B7: 1.2. Bérlő: az – alább definiált – Árajánlatban feltüntetett természetes vagy jogi személy, jogi személyiséggel nem rendelkező szervezet.
B8: 1.3. Fél/Felek: a Bérbeadó és/vagy a Bérlő együttesen vagy külön-külön
B9: 1.4. Eszköz(ök): az Árajánlatban és az átadás-átvételi jegyzékben meghatározott technikai, filmes vagy egyéb berendezések és tartozékaik.
B10: 1.5. Árajánlat: a Bérbeadó által írásban megküldött ajánlat, amely tartalmazza az Eszközök körét, a bérleti díjat, a bérleti időtartamot és az egyedi feltételeket.
B11: 1.6. Bérleti Időszak: az Árajánlatban meghatározott időtartam, amely az Eszközök átadásának időpontjától a Bérbeadó által előírt visszaszolgáltatás időpontjáig tart.
B12: 1.7. Vis maior: olyan, a Felek érdekkörén kívül eső, előre nem látható és el nem hárítható esemény (pl. természeti katasztrófa, háború, hatósági intézkedés), amely a szerződés teljesítését lehetetlenné teszi.
B13: 2. A szerződés létrejötte
B14: 2.1. A bérleti szerződés a Bérbeadó által adott Árajánlat Bérlő általi írásos visszaigazolásával jön létre. Írásbeli visszaigazolásnak kell tekinteni azt is, ha a Bérlő illetve a Bérlő képviseletében eljáró személy a Bérbeadótól az Eszközöket írásbeli elismervény (pakolási lista) ellenében átveszi.
... B92: 16.3. A Bérbeadó jogosult a jelen ÁSZF-et egyoldalúan módosítani. A Bérbeadó az ÁSZF módosításáról köteles a Bérlőt a módosítás hatálybalépését megelőzően írásban értesíteni. A Bérlő jogosult a módosítással szemben az értesítés kézhezvételétől számított 3 (három) munkanapon belül írásban tiltakozni. Amennyiben a Bérlő a fenti határidőn belül tiltakozik, a módosított ÁSZF vele szemben nem válik hatályossá, és a Felek jogviszonyára a módosítást megelőző ÁSZF rendelkezései irányadók. Amennyiben a Bérlő a fenti határidőn belül nem él tiltakozási jogával, úgy a módosított ÁSZF-et elfogadottnak kell tekinteni, és az a megjelölt hatálybalépési időponttól a Felek jogviszonyában alkalmazandó.
